BEGIN:VCALENDAR
VERSION:2.0
PRODID:-//Ohauiti Settlers Association - ECPv6.15.11//NONSGML v1.0//EN
CALSCALE:GREGORIAN
METHOD:PUBLISH
X-ORIGINAL-URL:https://ohauiti.org.nz
X-WR-CALDESC:Events for Ohauiti Settlers Association
REFRESH-INTERVAL;VALUE=DURATION:PT1H
X-Robots-Tag:noindex
X-PUBLISHED-TTL:PT1H
BEGIN:VTIMEZONE
TZID:UTC
BEGIN:STANDARD
TZOFFSETFROM:+0000
TZOFFSETTO:+0000
TZNAME:UTC
DTSTART:20230101T000000
END:STANDARD
END:VTIMEZONE
BEGIN:VEVENT
DTSTART;TZID=UTC:20240517T190000
DTEND;TZID=UTC:20240517T210000
DTSTAMP:20260424T150005
CREATED:20240506T162423Z
LAST-MODIFIED:20240506T162833Z
UID:161-1715972400-1715979600@ohauiti.org.nz
SUMMARY:Bingo Night
DESCRIPTION:Win various prices and have fun on our Bingo Night
URL:https://ohauiti.org.nz/event/bingo-night/
LOCATION:Ohauiti Settlers Hall\, 459 Ohauiti Road\, Ohauiti\, Tauranga\, Bay of Plenty\, 3112\, New Zealand
ATTACH;FMTTYPE=image/jpeg:https://ohauiti.org.nz/wp-content/uploads/2024/05/bingo-night.jpg
END:VEVENT
BEGIN:VEVENT
DTSTART;TZID=UTC:20240510T190000
DTEND;TZID=UTC:20240510T220000
DTSTAMP:20260424T150005
CREATED:20240506T161126Z
LAST-MODIFIED:20240506T162800Z
UID:153-1715367600-1715378400@ohauiti.org.nz
SUMMARY:Happy Hour
DESCRIPTION:Come one\, come all. Invite a friend at the happy hour.
URL:https://ohauiti.org.nz/event/happy-hour/
LOCATION:Ohauiti Settlers Hall\, 459 Ohauiti Road\, Ohauiti\, Tauranga\, Bay of Plenty\, 3112\, New Zealand
ATTACH;FMTTYPE=image/jpeg:https://ohauiti.org.nz/wp-content/uploads/2024/04/ohauiti-events.jpg
END:VEVENT
END:VCALENDAR